BEGIN:VCALENDAR
VERSION:2.0
PRODID:-//Compton Parish Council//Meeting Calendar//EN
CALSCALE:GREGORIAN
METHOD:PUBLISH
BEGIN:VEVENT
UID:70442-20220101@comptonparishcouncil.gov.uk
DTSTAMP:20260423T145124Z
DTSTART;VALUE=DATE:20220101
DTEND;VALUE=DATE:20220102
SUMMARY:Planning Committee Meetings &#8211\\; 2022
DESCRIPTION:Planning Committee Meeting\nView details: https://comptonparishcouncil.gov.uk/meetings/planning-committee-meetings-2022/
URL:https://comptonparishcouncil.gov.uk/meetings/planning-committee-meetings-2022/
END:VEVENT
END:VCALENDAR
