BEGIN:VCALENDAR
VERSION:2.0
PRODID:-//Compton Parish Council//Meeting Calendar//EN
CALSCALE:GREGORIAN
METHOD:PUBLISH
BEGIN:VEVENT
UID:70452-20220101@comptonparishcouncil.gov.uk
DTSTAMP:20260419T201152Z
DTSTART;VALUE=DATE:20220101
DTEND;VALUE=DATE:20220102
SUMMARY:Personnel Committee Meetings &#8211\\; 2022
DESCRIPTION:Personnel Committee Meeting\nView details: https://comptonparishcouncil.gov.uk/meetings/personnel-committee-meetings-2022/
URL:https://comptonparishcouncil.gov.uk/meetings/personnel-committee-meetings-2022/
END:VEVENT
END:VCALENDAR
