BEGIN:VCALENDAR
VERSION:2.0
PRODID:-//Compton Parish Council//Meeting Calendar//EN
CALSCALE:GREGORIAN
METHOD:PUBLISH
BEGIN:VEVENT
UID:70833-20240701@comptonparishcouncil.gov.uk
DTSTAMP:20260420T061842Z
DTSTART;VALUE=DATE:20240701
DTEND;VALUE=DATE:20240702
SUMMARY:Full Council Meeting &#8211\\; 1st July 2024
DESCRIPTION:Full Council Meeting\nView details: https://comptonparishcouncil.gov.uk/meetings/full-council-meeting-1st-july-2024/
URL:https://comptonparishcouncil.gov.uk/meetings/full-council-meeting-1st-july-2024/
END:VEVENT
END:VCALENDAR
