BEGIN:VCALENDAR
VERSION:2.0
PRODID:-//Compton Parish Council//Meeting Calendar//EN
CALSCALE:GREGORIAN
METHOD:PUBLISH
BEGIN:VEVENT
UID:70836-20241021@comptonparishcouncil.gov.uk
DTSTAMP:20260420T084017Z
DTSTART;VALUE=DATE:20241021
DTEND;VALUE=DATE:20241022
SUMMARY:Personnel Committee Meeting &#8211\\; 21st October 2024
DESCRIPTION:Personnel Committee Meeting\nView details: https://comptonparishcouncil.gov.uk/meetings/personnel-committee-21st-october-2024/
URL:https://comptonparishcouncil.gov.uk/meetings/personnel-committee-21st-october-2024/
END:VEVENT
END:VCALENDAR
