BEGIN:VCALENDAR
VERSION:2.0
PRODID:-//Compton Parish Council//Meeting Calendar//EN
CALSCALE:GREGORIAN
METHOD:PUBLISH
BEGIN:VEVENT
UID:71467-20251103@comptonparishcouncil.gov.uk
DTSTAMP:20260423T162931Z
DTSTART;VALUE=DATE:20251103
DTEND;VALUE=DATE:20251104
SUMMARY:Full Council &#8211\\; 3rd November 2025
DESCRIPTION:Full Council Meeting\nView details: https://comptonparishcouncil.gov.uk/meetings/full-council-3rd-november-2025/
URL:https://comptonparishcouncil.gov.uk/meetings/full-council-3rd-november-2025/
END:VEVENT
END:VCALENDAR
