BEGIN:VCALENDAR
VERSION:2.0
PRODID:-//Compton Parish Council//Meeting Calendar//EN
CALSCALE:GREGORIAN
METHOD:PUBLISH
BEGIN:VEVENT
UID:71474-20260316@comptonparishcouncil.gov.uk
DTSTAMP:20260420T084442Z
DTSTART;VALUE=DATE:20260316
DTEND;VALUE=DATE:20260317
SUMMARY:Annual Parish Meeting &#8211\\; 16th March 2026
DESCRIPTION:Annual Parish Meeting Meeting\nView details: https://comptonparishcouncil.gov.uk/meetings/annual-parish-meeting-16th-march-2026/
URL:https://comptonparishcouncil.gov.uk/meetings/annual-parish-meeting-16th-march-2026/
END:VEVENT
END:VCALENDAR
