BEGIN:VCALENDAR
VERSION:2.0
PRODID:-//Compton Parish Council//Meeting Calendar//EN
CALSCALE:GREGORIAN
METHOD:PUBLISH
BEGIN:VEVENT
UID:71475-20260413@comptonparishcouncil.gov.uk
DTSTAMP:20260419T235630Z
DTSTART;VALUE=DATE:20260413
DTEND;VALUE=DATE:20260414
SUMMARY:Full Council &#8211\\; 13th April 2026
DESCRIPTION:Full Council Meeting\nView details: https://comptonparishcouncil.gov.uk/meetings/full-council-13th-april-2026/
URL:https://comptonparishcouncil.gov.uk/meetings/full-council-13th-april-2026/
END:VEVENT
END:VCALENDAR
