BEGIN:VCALENDAR
VERSION:2.0
PRODID:-//Compton Parish Council//Meeting Calendar//EN
CALSCALE:GREGORIAN
METHOD:PUBLISH
BEGIN:VEVENT
UID:71514-20250616@comptonparishcouncil.gov.uk
DTSTAMP:20260419T171822Z
DTSTART;VALUE=DATE:20250616
DTEND;VALUE=DATE:20250617
SUMMARY:Planning Committee &#8211\\; 16th June 2025
DESCRIPTION:Planning Committee Meeting\nView details: https://comptonparishcouncil.gov.uk/meetings/planning-committee-16th-june-2025/
URL:https://comptonparishcouncil.gov.uk/meetings/planning-committee-16th-june-2025/
END:VEVENT
END:VCALENDAR
