BEGIN:VCALENDAR
VERSION:2.0
PRODID:-//Compton Parish Council//Meeting Calendar//EN
CALSCALE:GREGORIAN
METHOD:PUBLISH
BEGIN:VEVENT
UID:71574-20250722@comptonparishcouncil.gov.uk
DTSTAMP:20260419T171846Z
DTSTART;VALUE=DATE:20250722
DTEND;VALUE=DATE:20250723
SUMMARY:Planning Committee &#8211\\; 22nd July 2025
DESCRIPTION:Planning Committee Meeting\nView details: https://comptonparishcouncil.gov.uk/meetings/planning-committee-22nd-july-2025/
URL:https://comptonparishcouncil.gov.uk/meetings/planning-committee-22nd-july-2025/
END:VEVENT
END:VCALENDAR
