BEGIN:VCALENDAR
VERSION:2.0
PRODID:-//Compton Parish Council//Meeting Calendar//EN
CALSCALE:GREGORIAN
METHOD:PUBLISH
BEGIN:VEVENT
UID:71798-20260311@comptonparishcouncil.gov.uk
DTSTAMP:20260419T235808Z
DTSTART;VALUE=DATE:20260311
DTEND;VALUE=DATE:20260312
SUMMARY:Full Council &#8211\\; 11th March 2026
DESCRIPTION:Full Council Meeting\nView details: https://comptonparishcouncil.gov.uk/meetings/full-council-11th-march-2026/
URL:https://comptonparishcouncil.gov.uk/meetings/full-council-11th-march-2026/
END:VEVENT
END:VCALENDAR
