BEGIN:VCALENDAR
VERSION:2.0
PRODID:-//Compton Parish Council//Meeting Calendar//EN
CALSCALE:GREGORIAN
METHOD:PUBLISH
BEGIN:VEVENT
UID:71812-20260316@comptonparishcouncil.gov.uk
DTSTAMP:20260419T235445Z
DTSTART;VALUE=DATE:20260316
DTEND;VALUE=DATE:20260317
SUMMARY:Full Council &#8211\\; 16th March 2026
DESCRIPTION:Full Council Meeting\nView details: https://comptonparishcouncil.gov.uk/meetings/full-council-16th-march-2026/
URL:https://comptonparishcouncil.gov.uk/meetings/full-council-16th-march-2026/
END:VEVENT
END:VCALENDAR
